BEGIN:VCALENDAR
VERSION:2.0
PRODID:-//Cincinnati - ECPv6.15.20//NONSGML v1.0//EN
CALSCALE:GREGORIAN
METHOD:PUBLISH
X-WR-CALNAME:Cincinnati
X-ORIGINAL-URL:https://cincinnati.cisvusa.org
X-WR-CALDESC:Events for Cincinnati
REFRESH-INTERVAL;VALUE=DURATION:PT1H
X-Robots-Tag:noindex
X-PUBLISHED-TTL:PT1H
BEGIN:VTIMEZONE
TZID:America/New_York
BEGIN:DAYLIGHT
TZOFFSETFROM:-0500
TZOFFSETTO:-0400
TZNAME:EDT
DTSTART:20210314T070000
END:DAYLIGHT
BEGIN:STANDARD
TZOFFSETFROM:-0400
TZOFFSETTO:-0500
TZNAME:EST
DTSTART:20211107T060000
END:STANDARD
BEGIN:DAYLIGHT
TZOFFSETFROM:-0500
TZOFFSETTO:-0400
TZNAME:EDT
DTSTART:20220313T070000
END:DAYLIGHT
BEGIN:STANDARD
TZOFFSETFROM:-0400
TZOFFSETTO:-0500
TZNAME:EST
DTSTART:20221106T060000
END:STANDARD
BEGIN:DAYLIGHT
TZOFFSETFROM:-0500
TZOFFSETTO:-0400
TZNAME:EDT
DTSTART:20230312T070000
END:DAYLIGHT
BEGIN:STANDARD
TZOFFSETFROM:-0400
TZOFFSETTO:-0500
TZNAME:EST
DTSTART:20231105T060000
END:STANDARD
END:VTIMEZONE
BEGIN:VEVENT
DTSTART;TZID=America/New_York:20221112T130000
DTEND;TZID=America/New_York:20221112T150000
DTSTAMP:20260422T035510
CREATED:20220925T161415Z
LAST-MODIFIED:20220925T161415Z
UID:10000004-1668258000-1668265200@cincinnati.cisvusa.org
SUMMARY:Junior Branch Activity Day
DESCRIPTION:
URL:https://cincinnati.cisvusa.org/event/junior-branch-activity-day/
LOCATION:The Summit Country Day School\, 2161 Grandin Rd.\, Cincinnati\, OH\, 45208\, United States
GEO:39.1296606;-84.4595531
X-APPLE-STRUCTURED-LOCATION;VALUE=URI;X-ADDRESS=The Summit Country Day School 2161 Grandin Rd. Cincinnati OH 45208 United States;X-APPLE-RADIUS=500;X-TITLE=2161 Grandin Rd.:geo:-84.4595531,39.1296606
END:VEVENT
END:VCALENDAR