BEGIN:VCALENDAR
VERSION:2.0
PRODID:-//Cincinnati - ECPv6.15.20//NONSGML v1.0//EN
CALSCALE:GREGORIAN
METHOD:PUBLISH
X-WR-CALNAME:Cincinnati
X-ORIGINAL-URL:https://cincinnati.cisvusa.org
X-WR-CALDESC:Events for Cincinnati
REFRESH-INTERVAL;VALUE=DURATION:PT1H
X-Robots-Tag:noindex
X-PUBLISHED-TTL:PT1H
BEGIN:VTIMEZONE
TZID:America/New_York
BEGIN:DAYLIGHT
TZOFFSETFROM:-0500
TZOFFSETTO:-0400
TZNAME:EDT
DTSTART:20250309T070000
END:DAYLIGHT
BEGIN:STANDARD
TZOFFSETFROM:-0400
TZOFFSETTO:-0500
TZNAME:EST
DTSTART:20251102T060000
END:STANDARD
BEGIN:DAYLIGHT
TZOFFSETFROM:-0500
TZOFFSETTO:-0400
TZNAME:EDT
DTSTART:20260308T070000
END:DAYLIGHT
BEGIN:STANDARD
TZOFFSETFROM:-0400
TZOFFSETTO:-0500
TZNAME:EST
DTSTART:20261101T060000
END:STANDARD
BEGIN:DAYLIGHT
TZOFFSETFROM:-0500
TZOFFSETTO:-0400
TZNAME:EDT
DTSTART:20270314T070000
END:DAYLIGHT
BEGIN:STANDARD
TZOFFSETFROM:-0400
TZOFFSETTO:-0500
TZNAME:EST
DTSTART:20271107T060000
END:STANDARD
END:VTIMEZONE
BEGIN:VEVENT
DTSTART;TZID=America/New_York:20260218T110000
DTEND;TZID=America/New_York:20260218T210000
DTSTAMP:20260421T015935
CREATED:20260202T220938Z
LAST-MODIFIED:20260202T220938Z
UID:10000078-1771412400-1771448400@cincinnati.cisvusa.org
SUMMARY:Fundraiser: Red Robin!
DESCRIPTION:There is another fundraiser coming up on Wednesday\, Feb. 18th at Red Robin We hope that this provided our chapter members with some time to mingle and enjoy meals as we would in our programs. When you purchase your in restaurant meal mention your group’s name and follow the restaurant’s instructions to receive a 20% of your meal’s price donated back to CISV. Our target is to get 20 or more CISV members to attend this event.    
URL:https://cincinnati.cisvusa.org/event/fundraiser-red-robin/
LOCATION:7250 Houston Rd\, 7250 Houston Rd\, Florence\, KY\, 41042\, United States
END:VEVENT
END:VCALENDAR