BEGIN:VCALENDAR
VERSION:2.0
PRODID:-//Cincinnati - ECPv6.15.20//NONSGML v1.0//EN
CALSCALE:GREGORIAN
METHOD:PUBLISH
X-WR-CALNAME:Cincinnati
X-ORIGINAL-URL:https://cincinnati.cisvusa.org
X-WR-CALDESC:Events for Cincinnati
REFRESH-INTERVAL;VALUE=DURATION:PT1H
X-Robots-Tag:noindex
X-PUBLISHED-TTL:PT1H
BEGIN:VTIMEZONE
TZID:America/New_York
BEGIN:DAYLIGHT
TZOFFSETFROM:-0500
TZOFFSETTO:-0400
TZNAME:EDT
DTSTART:20220313T070000
END:DAYLIGHT
BEGIN:STANDARD
TZOFFSETFROM:-0400
TZOFFSETTO:-0500
TZNAME:EST
DTSTART:20221106T060000
END:STANDARD
BEGIN:DAYLIGHT
TZOFFSETFROM:-0500
TZOFFSETTO:-0400
TZNAME:EDT
DTSTART:20230312T070000
END:DAYLIGHT
BEGIN:STANDARD
TZOFFSETFROM:-0400
TZOFFSETTO:-0500
TZNAME:EST
DTSTART:20231105T060000
END:STANDARD
BEGIN:DAYLIGHT
TZOFFSETFROM:-0500
TZOFFSETTO:-0400
TZNAME:EDT
DTSTART:20240310T070000
END:DAYLIGHT
BEGIN:STANDARD
TZOFFSETFROM:-0400
TZOFFSETTO:-0500
TZNAME:EST
DTSTART:20241103T060000
END:STANDARD
END:VTIMEZONE
BEGIN:VEVENT
DTSTART;TZID=America/New_York:20230220T100000
DTEND;TZID=America/New_York:20230220T180000
DTSTAMP:20260420T020638
CREATED:20230214T020740Z
LAST-MODIFIED:20230214T020740Z
UID:10000010-1676887200-1676916000@cincinnati.cisvusa.org
SUMMARY:8 Hours of Peace with CISV Midwest Ohio
DESCRIPTION:Our friends at the Midwest Ohio chapter are hosting an event on February 20th (President’s Day) in Dayton. Sign up here (Cost $25)
URL:https://cincinnati.cisvusa.org/event/8-hours-of-peace-with-cisv-midwest-ohio/
LOCATION:International Museum of Peace\, 10 N Ludlow St\, Dayton\, OH 45402
END:VEVENT
BEGIN:VEVENT
DTSTART;TZID=America/New_York:20230225T130000
DTEND;TZID=America/New_York:20230225T150000
DTSTAMP:20260420T020638
CREATED:20220925T163951Z
LAST-MODIFIED:20230107T182729Z
UID:10000009-1677330000-1677337200@cincinnati.cisvusa.org
SUMMARY:2023 Program Family Orientation
DESCRIPTION:
URL:https://cincinnati.cisvusa.org/event/2023-program-family-orientation/
LOCATION:Seven Hills School\, 5400 Red Bank Road\, Cincinnati\, 45227\, United States
END:VEVENT
END:VCALENDAR