BEGIN:VCALENDAR
VERSION:2.0
PRODID:-//Cincinnati - ECPv6.15.20//NONSGML v1.0//EN
CALSCALE:GREGORIAN
METHOD:PUBLISH
X-WR-CALNAME:Cincinnati
X-ORIGINAL-URL:https://cincinnati.cisvusa.org
X-WR-CALDESC:Events for Cincinnati
REFRESH-INTERVAL;VALUE=DURATION:PT1H
X-Robots-Tag:noindex
X-PUBLISHED-TTL:PT1H
BEGIN:VTIMEZONE
TZID:America/New_York
BEGIN:DAYLIGHT
TZOFFSETFROM:-0500
TZOFFSETTO:-0400
TZNAME:EDT
DTSTART:20250309T070000
END:DAYLIGHT
BEGIN:STANDARD
TZOFFSETFROM:-0400
TZOFFSETTO:-0500
TZNAME:EST
DTSTART:20251102T060000
END:STANDARD
BEGIN:DAYLIGHT
TZOFFSETFROM:-0500
TZOFFSETTO:-0400
TZNAME:EDT
DTSTART:20260308T070000
END:DAYLIGHT
BEGIN:STANDARD
TZOFFSETFROM:-0400
TZOFFSETTO:-0500
TZNAME:EST
DTSTART:20261101T060000
END:STANDARD
BEGIN:DAYLIGHT
TZOFFSETFROM:-0500
TZOFFSETTO:-0400
TZNAME:EDT
DTSTART:20270314T070000
END:DAYLIGHT
BEGIN:STANDARD
TZOFFSETFROM:-0400
TZOFFSETTO:-0500
TZNAME:EST
DTSTART:20271107T060000
END:STANDARD
END:VTIMEZONE
BEGIN:VEVENT
DTSTART;VALUE=DATE:20260105
DTEND;VALUE=DATE:20260106
DTSTAMP:20260421T000311
CREATED:20251203T192758Z
LAST-MODIFIED:20251203T192813Z
UID:10000072-1767571200-1767657599@cincinnati.cisvusa.org
SUMMARY:Applications Due
DESCRIPTION:Program Applications are Due Jan 5th\, 2026
URL:https://cincinnati.cisvusa.org/event/application-due/
LOCATION:OH
END:VEVENT
BEGIN:VEVENT
DTSTART;VALUE=DATE:20260118
DTEND;VALUE=DATE:20260120
DTSTAMP:20260421T000311
CREATED:20251203T192932Z
LAST-MODIFIED:20251203T192932Z
UID:10000073-1768694400-1768867199@cincinnati.cisvusa.org
SUMMARY:Selection Overnight
DESCRIPTION:Applicants are invited to participate in Selection overnight. Time and location TBD
URL:https://cincinnati.cisvusa.org/event/selection-overnight-2/
LOCATION:OH
END:VEVENT
BEGIN:VEVENT
DTSTART;VALUE=DATE:20260124
DTEND;VALUE=DATE:20260125
DTSTAMP:20260421T000311
CREATED:20251203T193106Z
LAST-MODIFIED:20251203T193106Z
UID:10000074-1769212800-1769299199@cincinnati.cisvusa.org
SUMMARY:Interview Day
DESCRIPTION:Applicants will be notified about times for interviews by email
URL:https://cincinnati.cisvusa.org/event/interview-day-2/
LOCATION:The Summit Country Day School\, 2161 Grandin Rd.\, Cincinnati\, OH\, 45208\, United States
GEO:39.1296606;-84.4595531
X-APPLE-STRUCTURED-LOCATION;VALUE=URI;X-ADDRESS=The Summit Country Day School 2161 Grandin Rd. Cincinnati OH 45208 United States;X-APPLE-RADIUS=500;X-TITLE=2161 Grandin Rd.:geo:-84.4595531,39.1296606
END:VEVENT
END:VCALENDAR