BEGIN:VCALENDAR
VERSION:2.0
PRODID:-//Cincinnati - ECPv6.15.20//NONSGML v1.0//EN
CALSCALE:GREGORIAN
METHOD:PUBLISH
X-WR-CALNAME:Cincinnati
X-ORIGINAL-URL:https://cincinnati.cisvusa.org
X-WR-CALDESC:Events for Cincinnati
REFRESH-INTERVAL;VALUE=DURATION:PT1H
X-Robots-Tag:noindex
X-PUBLISHED-TTL:PT1H
BEGIN:VTIMEZONE
TZID:America/New_York
BEGIN:DAYLIGHT
TZOFFSETFROM:-0500
TZOFFSETTO:-0400
TZNAME:EDT
DTSTART:20220313T070000
END:DAYLIGHT
BEGIN:STANDARD
TZOFFSETFROM:-0400
TZOFFSETTO:-0500
TZNAME:EST
DTSTART:20221106T060000
END:STANDARD
BEGIN:DAYLIGHT
TZOFFSETFROM:-0500
TZOFFSETTO:-0400
TZNAME:EDT
DTSTART:20230312T070000
END:DAYLIGHT
BEGIN:STANDARD
TZOFFSETFROM:-0400
TZOFFSETTO:-0500
TZNAME:EST
DTSTART:20231105T060000
END:STANDARD
BEGIN:DAYLIGHT
TZOFFSETFROM:-0500
TZOFFSETTO:-0400
TZNAME:EDT
DTSTART:20240310T070000
END:DAYLIGHT
BEGIN:STANDARD
TZOFFSETFROM:-0400
TZOFFSETTO:-0500
TZNAME:EST
DTSTART:20241103T060000
END:STANDARD
END:VTIMEZONE
BEGIN:VEVENT
DTSTART;TZID=America/New_York:20230121T090000
DTEND;TZID=America/New_York:20230121T150000
DTSTAMP:20260419T202859
CREATED:20220925T040057Z
LAST-MODIFIED:20221117T223745Z
UID:10000007-1674291600-1674313200@cincinnati.cisvusa.org
SUMMARY:2023 Delegate Selection Interviews
DESCRIPTION:
URL:https://cincinnati.cisvusa.org/event/2023-delegate-selection-interviews/
LOCATION:The Summit Country Day School\, 2161 Grandin Rd.\, Cincinnati\, OH\, 45208\, United States
GEO:39.1296606;-84.4595531
X-APPLE-STRUCTURED-LOCATION;VALUE=URI;X-ADDRESS=The Summit Country Day School 2161 Grandin Rd. Cincinnati OH 45208 United States;X-APPLE-RADIUS=500;X-TITLE=2161 Grandin Rd.:geo:-84.4595531,39.1296606
END:VEVENT
END:VCALENDAR