BEGIN:VCALENDAR
VERSION:2.0
PRODID:-//Cincinnati - ECPv6.15.20//NONSGML v1.0//EN
CALSCALE:GREGORIAN
METHOD:PUBLISH
X-WR-CALNAME:Cincinnati
X-ORIGINAL-URL:https://cincinnati.cisvusa.org
X-WR-CALDESC:Events for Cincinnati
REFRESH-INTERVAL;VALUE=DURATION:PT1H
X-Robots-Tag:noindex
X-PUBLISHED-TTL:PT1H
BEGIN:VTIMEZONE
TZID:America/New_York
BEGIN:DAYLIGHT
TZOFFSETFROM:-0500
TZOFFSETTO:-0400
TZNAME:EDT
DTSTART:20220313T070000
END:DAYLIGHT
BEGIN:STANDARD
TZOFFSETFROM:-0400
TZOFFSETTO:-0500
TZNAME:EST
DTSTART:20221106T060000
END:STANDARD
BEGIN:DAYLIGHT
TZOFFSETFROM:-0500
TZOFFSETTO:-0400
TZNAME:EDT
DTSTART:20230312T070000
END:DAYLIGHT
BEGIN:STANDARD
TZOFFSETFROM:-0400
TZOFFSETTO:-0500
TZNAME:EST
DTSTART:20231105T060000
END:STANDARD
BEGIN:DAYLIGHT
TZOFFSETFROM:-0500
TZOFFSETTO:-0400
TZNAME:EDT
DTSTART:20240310T070000
END:DAYLIGHT
BEGIN:STANDARD
TZOFFSETFROM:-0400
TZOFFSETTO:-0500
TZNAME:EST
DTSTART:20241103T060000
END:STANDARD
END:VTIMEZONE
BEGIN:VEVENT
DTSTART;TZID=America/New_York:20230331T190000
DTEND;TZID=America/New_York:20230402T230000
DTSTAMP:20260421T235903
CREATED:20230227T175047Z
LAST-MODIFIED:20230228T001518Z
UID:10000011-1680289200-1680476400@cincinnati.cisvusa.org
SUMMARY:Regional Mini Camp 2023
DESCRIPTION:Northeast Ohio are hosting this year’s Regional Mini Camp! Register on the link in the box below.  March 31st – April 2nd. Please arrive Friday by 7PM\, Pick up Sunday 11AM. Register by March 10th to be guaranteed a t-shirt! Final registration deadline March 17th!  \nPacking List \n\nReusable water bottle\nClosed toe sneakers\nClothes for three days\nPajamas for two nights\nSwimsuit\nPool Towel\nToiletries\nJacket\, Sweater\nSpending Money (Max $75)\nMOST IMPORTANT Completed forms listed in the registration\n\nBedding and towels are provided. \nDinner is NOT provided on Friday night. Please eat beforehand! Everyone is encouraged to bring a snack to share with the camp! \n>> Register here << \nQuestions? Email Shannon Andre at neo@cisvusa.org 
URL:https://cincinnati.cisvusa.org/event/regional-mini-camp-2023/
LOCATION:OH
END:VEVENT
BEGIN:VEVENT
DTSTART;TZID=America/New_York:20230403T190000
DTEND;TZID=America/New_York:20230403T200000
DTSTAMP:20260421T235903
CREATED:20230403T011205Z
LAST-MODIFIED:20230403T011205Z
UID:10000013-1680548400-1680552000@cincinnati.cisvusa.org
SUMMARY:Board Meeting
DESCRIPTION:April board meeting
URL:https://cincinnati.cisvusa.org/event/board-meeting/
LOCATION:Pleasant Ridge Presbyterian\, 5950 Montgomery Rd\, Cincinnati\, OH\, 45213\, United States
GEO:39.1803173;-84.4322326
X-APPLE-STRUCTURED-LOCATION;VALUE=URI;X-ADDRESS=Pleasant Ridge Presbyterian 5950 Montgomery Rd Cincinnati OH 45213 United States;X-APPLE-RADIUS=500;X-TITLE=5950 Montgomery Rd:geo:-84.4322326,39.1803173
END:VEVENT
END:VCALENDAR