BEGIN:VCALENDAR
VERSION:2.0
PRODID:-//Cincinnati - ECPv6.15.20//NONSGML v1.0//EN
CALSCALE:GREGORIAN
METHOD:PUBLISH
X-WR-CALNAME:Cincinnati
X-ORIGINAL-URL:https://cincinnati.cisvusa.org
X-WR-CALDESC:Events for Cincinnati
REFRESH-INTERVAL;VALUE=DURATION:PT1H
X-Robots-Tag:noindex
X-PUBLISHED-TTL:PT1H
BEGIN:VTIMEZONE
TZID:America/New_York
BEGIN:DAYLIGHT
TZOFFSETFROM:-0500
TZOFFSETTO:-0400
TZNAME:EDT
DTSTART:20220313T070000
END:DAYLIGHT
BEGIN:STANDARD
TZOFFSETFROM:-0400
TZOFFSETTO:-0500
TZNAME:EST
DTSTART:20221106T060000
END:STANDARD
BEGIN:DAYLIGHT
TZOFFSETFROM:-0500
TZOFFSETTO:-0400
TZNAME:EDT
DTSTART:20230312T070000
END:DAYLIGHT
BEGIN:STANDARD
TZOFFSETFROM:-0400
TZOFFSETTO:-0500
TZNAME:EST
DTSTART:20231105T060000
END:STANDARD
BEGIN:DAYLIGHT
TZOFFSETFROM:-0500
TZOFFSETTO:-0400
TZNAME:EDT
DTSTART:20240310T070000
END:DAYLIGHT
BEGIN:STANDARD
TZOFFSETFROM:-0400
TZOFFSETTO:-0500
TZNAME:EST
DTSTART:20241103T060000
END:STANDARD
END:VTIMEZONE
BEGIN:VEVENT
DTSTART;TZID=America/New_York:20230513T130000
DTEND;TZID=America/New_York:20230513T150000
DTSTAMP:20260423T035330
CREATED:20230504T234755Z
LAST-MODIFIED:20230504T234755Z
UID:10000019-1683982800-1683990000@cincinnati.cisvusa.org
SUMMARY:Tie Dye and Candy Event
DESCRIPTION:JB’ers will meet up at Tower Park for a Tie Dye and International Candy Tasting event! \nBring white clothing or purchase a white CISV shirt at the event! \nBring your CISV Merch to trade! \n  \n   \n  \n 
URL:https://cincinnati.cisvusa.org/event/tie-dye-and-candy-event/
LOCATION:Tower Park\, 900 S Ft Thomas Ave\, Fort Thomas\, KY\, 41075
GEO:39.0671484;-84.4460799
X-APPLE-STRUCTURED-LOCATION;VALUE=URI;X-ADDRESS=Tower Park 900 S Ft Thomas Ave Fort Thomas KY 41075;X-APPLE-RADIUS=500;X-TITLE=900 S Ft Thomas Ave:geo:-84.4460799,39.0671484
END:VEVENT
END:VCALENDAR