BEGIN:VCALENDAR
VERSION:2.0
PRODID:-//Cincinnati - ECPv6.15.20//NONSGML v1.0//EN
CALSCALE:GREGORIAN
METHOD:PUBLISH
X-WR-CALNAME:Cincinnati
X-ORIGINAL-URL:https://cincinnati.cisvusa.org
X-WR-CALDESC:Events for Cincinnati
REFRESH-INTERVAL;VALUE=DURATION:PT1H
X-Robots-Tag:noindex
X-PUBLISHED-TTL:PT1H
BEGIN:VTIMEZONE
TZID:America/New_York
BEGIN:DAYLIGHT
TZOFFSETFROM:-0500
TZOFFSETTO:-0400
TZNAME:EDT
DTSTART:20240310T070000
END:DAYLIGHT
BEGIN:STANDARD
TZOFFSETFROM:-0400
TZOFFSETTO:-0500
TZNAME:EST
DTSTART:20241103T060000
END:STANDARD
BEGIN:DAYLIGHT
TZOFFSETFROM:-0500
TZOFFSETTO:-0400
TZNAME:EDT
DTSTART:20250309T070000
END:DAYLIGHT
BEGIN:STANDARD
TZOFFSETFROM:-0400
TZOFFSETTO:-0500
TZNAME:EST
DTSTART:20251102T060000
END:STANDARD
BEGIN:DAYLIGHT
TZOFFSETFROM:-0500
TZOFFSETTO:-0400
TZNAME:EDT
DTSTART:20260308T070000
END:DAYLIGHT
BEGIN:STANDARD
TZOFFSETFROM:-0400
TZOFFSETTO:-0500
TZNAME:EST
DTSTART:20261101T060000
END:STANDARD
END:VTIMEZONE
BEGIN:VEVENT
DTSTART;TZID=America/New_York:20251028T170000
DTEND;TZID=America/New_York:20251028T210000
DTSTAMP:20260422T191740
CREATED:20251009T141715Z
LAST-MODIFIED:20251011T122111Z
UID:10000066-1761670800-1761685200@cincinnati.cisvusa.org
SUMMARY:Fundraiser: Taste of Belgium
DESCRIPTION:Ready for a mouthwatering meal that supports a great cause? Join us at Taste of Belgium (3825 Edwards Road) on Tuesday\, October 28th between 5:00 PM – 9:00 PM and make a difference! With every order you place\, 20% will be donated to CISV.  Don’t miss out on this incredible opportunity to dine for a purpose! RSVP & details here: https://grouprai.se/s313199  #groupraise #cisv #tasteofbelgium #fundraiser \n 
URL:https://cincinnati.cisvusa.org/event/fundraiser-taste-of-belgium/
LOCATION:3825 edwards road\, 3825 Edwards Rd\, Cincinnati\, 45209
END:VEVENT
END:VCALENDAR