BEGIN:VCALENDAR
VERSION:2.0
PRODID:-//Cincinnati - ECPv6.15.20//NONSGML v1.0//EN
CALSCALE:GREGORIAN
METHOD:PUBLISH
X-WR-CALNAME:Cincinnati
X-ORIGINAL-URL:https://cincinnati.cisvusa.org
X-WR-CALDESC:Events for Cincinnati
REFRESH-INTERVAL;VALUE=DURATION:PT1H
X-Robots-Tag:noindex
X-PUBLISHED-TTL:PT1H
BEGIN:VTIMEZONE
TZID:America/New_York
BEGIN:DAYLIGHT
TZOFFSETFROM:-0500
TZOFFSETTO:-0400
TZNAME:EDT
DTSTART:20230312T070000
END:DAYLIGHT
BEGIN:STANDARD
TZOFFSETFROM:-0400
TZOFFSETTO:-0500
TZNAME:EST
DTSTART:20231105T060000
END:STANDARD
BEGIN:DAYLIGHT
TZOFFSETFROM:-0500
TZOFFSETTO:-0400
TZNAME:EDT
DTSTART:20240310T070000
END:DAYLIGHT
BEGIN:STANDARD
TZOFFSETFROM:-0400
TZOFFSETTO:-0500
TZNAME:EST
DTSTART:20241103T060000
END:STANDARD
BEGIN:DAYLIGHT
TZOFFSETFROM:-0500
TZOFFSETTO:-0400
TZNAME:EDT
DTSTART:20250309T070000
END:DAYLIGHT
BEGIN:STANDARD
TZOFFSETFROM:-0400
TZOFFSETTO:-0500
TZNAME:EST
DTSTART:20251102T060000
END:STANDARD
END:VTIMEZONE
BEGIN:VEVENT
DTSTART;TZID=America/New_York:20240218T143000
DTEND;TZID=America/New_York:20240219T170000
DTSTAMP:20260420T134630
CREATED:20240126T011154Z
LAST-MODIFIED:20240126T011154Z
UID:10000032-1708266600-1708362000@cincinnati.cisvusa.org
SUMMARY:Local OHIO MiniCamp
DESCRIPTION:CISV Midwest Ohio are inviting us to join them for a local Ohio Mini Camp! (different from RMC)\n \nWe want to welcome you to CISV Midwest Ohio’s Local OHIO Mini Camp….. we want to fill your Winter and Spring with all things CISV! This camp is intended for CISV members who will be 10+ years old within the 2024 calendar year. Gather with your Ohio CISV friends\, bring some friends\, and of course\, make some new friends! \nRegistration for Local OHIO MiniCamp is here: https://forms.gle/JfzEPYbf24efs1Ai9\n\nCAMP DATES:\nSunday\, February 18 – Monday\, February 19\, 2024\nArrival is 2:30pm on Sunday\, February 18\nDeparture is 5:00pm on Monday\, February 19\n\nDEADLINE TO REGISTER:\nFRIDAY\, FEBRUARY 2\, 2024 at 11:59 pm \n\nCAMP THEME:\nOhana Means Family…and So Does CISV!\nPlease wear and bring anything Hawaiian!!! Minus the pineapple…\n\nCAMP LOCATION/MEETING SPACE:\nCamp Kern\, Elk Lodge\, 5291 State Route 350\, Oregonia\, OH 45054 \nMEALS PROVIDED AT CAMP KERN’S SINGERMAN LODGE:\nSunday Dinner\, 5:30pm\, Monday Breakfast\, 8:00am\, Monday Lunch\, 12:00pm and Snacks\, Snacks\, Snacks!\n\nCOST:\n$120 per participant. (No charge for chaperones…yeah!)\nIncludes Snacks\, Dinner\, CISV Ohana T-Shirt\, Breakfast\, Lunch\, awesome bunks and space… Showers\, and the beautiful outdoors! \n\nMEMBERSHIP DUES:\nTo be covered by CISV USA’s liability insurance\, all participants and chaperones must be current paid members of their respective CISV chapter prior to the start of camp.  A receipt of paid 2024 membership fees is required for verification (to be uploaded in registration form).\n\nITEMS TO BRING:\nReusable drinking vessel (sustainability is a must!)\nBed linens (pillow\, sheets\, blanket\, and/or sleeping bag)\nToiletries/Shower Supplies (deodorant\, toothbrush\, toothpaste\, mouthwash\, deodorant\, shampoo\, conditioner\, detangler\, brush\, comb\, hair goop\, deodorant\, bath wash\, towel\, washcloth\, vision care\, fem care\, dental care\, deodorant…you get the picture!)\nClean change of clothes\nSnuggly pajamas\nWinterwear (parka\, jacket\, coat\, hat\, gloves\, scarf…we WILL be outside\, so pack accordingly!)\nFriends\nAN OPEN MIND for fun and new CISV experiences! \nWHAT NOT TO BRING:\nCell phone\, watch\, tablet\, etc. (the chaperones will collect these to allow undistracted interactions with each other)\n\nThe Midwest Ohio Chapter Junior Branch Board members have planned fun and engaging activities focused on CISV’s four peace education content areas of Diversity\, Conflict & Resolution\, Sustainable Development\, and Human Rights. All Ohio CISV chapters (Cincinnati\, Columbus\, Midwest Ohio\, and Northeast Ohio) are invited to attend! OHANA means family!
URL:https://cincinnati.cisvusa.org/event/local-ohio-minicamp/
LOCATION:Camp Kern\, 5291 State Route 350\, Oregonia\, OH\, 45054\, United States
END:VEVENT
END:VCALENDAR