BEGIN:VCALENDAR
VERSION:2.0
PRODID:-//Cincinnati - ECPv6.15.20//NONSGML v1.0//EN
CALSCALE:GREGORIAN
METHOD:PUBLISH
X-WR-CALNAME:Cincinnati
X-ORIGINAL-URL:https://cincinnati.cisvusa.org
X-WR-CALDESC:Events for Cincinnati
REFRESH-INTERVAL;VALUE=DURATION:PT1H
X-Robots-Tag:noindex
X-PUBLISHED-TTL:PT1H
BEGIN:VTIMEZONE
TZID:America/New_York
BEGIN:DAYLIGHT
TZOFFSETFROM:-0500
TZOFFSETTO:-0400
TZNAME:EDT
DTSTART:20240310T070000
END:DAYLIGHT
BEGIN:STANDARD
TZOFFSETFROM:-0400
TZOFFSETTO:-0500
TZNAME:EST
DTSTART:20241103T060000
END:STANDARD
BEGIN:DAYLIGHT
TZOFFSETFROM:-0500
TZOFFSETTO:-0400
TZNAME:EDT
DTSTART:20250309T070000
END:DAYLIGHT
BEGIN:STANDARD
TZOFFSETFROM:-0400
TZOFFSETTO:-0500
TZNAME:EST
DTSTART:20251102T060000
END:STANDARD
BEGIN:DAYLIGHT
TZOFFSETFROM:-0500
TZOFFSETTO:-0400
TZNAME:EDT
DTSTART:20260308T070000
END:DAYLIGHT
BEGIN:STANDARD
TZOFFSETFROM:-0400
TZOFFSETTO:-0500
TZNAME:EST
DTSTART:20261101T060000
END:STANDARD
END:VTIMEZONE
BEGIN:VEVENT
DTSTART;TZID=America/New_York:20251122T103000
DTEND;TZID=America/New_York:20251122T210000
DTSTAMP:20260423T114145
CREATED:20251103T031746Z
LAST-MODIFIED:20251103T031746Z
UID:10000070-1763807400-1763845200@cincinnati.cisvusa.org
SUMMARY:Fundraiser: City BBQ
DESCRIPTION:Join us at City BBQ (2760 Alexandria Pike\, Highland Heights\, KY) \non Saturday\, Nov\, 22nd (all day) and make a difference! With every order you place\, 20% will be donated to CISV \n 
URL:https://cincinnati.cisvusa.org/event/fundraiser-city-bbq/
LOCATION:2760 Alexandria Pike\, Highland Heights\, KY\, 2760 Alexandria Pike\, Highland Heights\, KY\, 41076\, United States
END:VEVENT
END:VCALENDAR