BEGIN:VCALENDAR
VERSION:2.0
PRODID:-//Cincinnati - ECPv6.15.20//NONSGML v1.0//EN
CALSCALE:GREGORIAN
METHOD:PUBLISH
X-WR-CALNAME:Cincinnati
X-ORIGINAL-URL:https://cincinnati.cisvusa.org
X-WR-CALDESC:Events for Cincinnati
REFRESH-INTERVAL;VALUE=DURATION:PT1H
X-Robots-Tag:noindex
X-PUBLISHED-TTL:PT1H
BEGIN:VTIMEZONE
TZID:America/New_York
BEGIN:DAYLIGHT
TZOFFSETFROM:-0500
TZOFFSETTO:-0400
TZNAME:EDT
DTSTART:20220313T070000
END:DAYLIGHT
BEGIN:STANDARD
TZOFFSETFROM:-0400
TZOFFSETTO:-0500
TZNAME:EST
DTSTART:20221106T060000
END:STANDARD
BEGIN:DAYLIGHT
TZOFFSETFROM:-0500
TZOFFSETTO:-0400
TZNAME:EDT
DTSTART:20230312T070000
END:DAYLIGHT
BEGIN:STANDARD
TZOFFSETFROM:-0400
TZOFFSETTO:-0500
TZNAME:EST
DTSTART:20231105T060000
END:STANDARD
BEGIN:DAYLIGHT
TZOFFSETFROM:-0500
TZOFFSETTO:-0400
TZNAME:EDT
DTSTART:20240310T070000
END:DAYLIGHT
BEGIN:STANDARD
TZOFFSETFROM:-0400
TZOFFSETTO:-0500
TZNAME:EST
DTSTART:20241103T060000
END:STANDARD
END:VTIMEZONE
BEGIN:VEVENT
DTSTART;TZID=America/New_York:20231205T190000
DTEND;TZID=America/New_York:20231205T200000
DTSTAMP:20260421T023756
CREATED:20231003T013039Z
LAST-MODIFIED:20231003T013039Z
UID:10000027-1701802800-1701806400@cincinnati.cisvusa.org
SUMMARY:Information Night 2
DESCRIPTION:Join us for the second information night on the upcoming CISV year and learn more about what CISV is all about!
URL:https://cincinnati.cisvusa.org/event/information-night-2/
LOCATION:Fort Thomas Library Carrico Branch\, 1000 Highland Ave\, Fort Thomas\, KY\, 41075\, United States
END:VEVENT
END:VCALENDAR