BEGIN:VCALENDAR
VERSION:2.0
PRODID:-//Cincinnati - ECPv6.15.20//NONSGML v1.0//EN
CALSCALE:GREGORIAN
METHOD:PUBLISH
X-WR-CALNAME:Cincinnati
X-ORIGINAL-URL:https://cincinnati.cisvusa.org
X-WR-CALDESC:Events for Cincinnati
REFRESH-INTERVAL;VALUE=DURATION:PT1H
X-Robots-Tag:noindex
X-PUBLISHED-TTL:PT1H
BEGIN:VTIMEZONE
TZID:America/New_York
BEGIN:DAYLIGHT
TZOFFSETFROM:-0500
TZOFFSETTO:-0400
TZNAME:EDT
DTSTART:20240310T070000
END:DAYLIGHT
BEGIN:STANDARD
TZOFFSETFROM:-0400
TZOFFSETTO:-0500
TZNAME:EST
DTSTART:20241103T060000
END:STANDARD
BEGIN:DAYLIGHT
TZOFFSETFROM:-0500
TZOFFSETTO:-0400
TZNAME:EDT
DTSTART:20250309T070000
END:DAYLIGHT
BEGIN:STANDARD
TZOFFSETFROM:-0400
TZOFFSETTO:-0500
TZNAME:EST
DTSTART:20251102T060000
END:STANDARD
BEGIN:DAYLIGHT
TZOFFSETFROM:-0500
TZOFFSETTO:-0400
TZNAME:EDT
DTSTART:20260308T070000
END:DAYLIGHT
BEGIN:STANDARD
TZOFFSETFROM:-0400
TZOFFSETTO:-0500
TZNAME:EST
DTSTART:20261101T060000
END:STANDARD
END:VTIMEZONE
BEGIN:VEVENT
DTSTART;TZID=America/New_York:20251212T170000
DTEND;TZID=America/New_York:20251212T213000
DTSTAMP:20260420T220957
CREATED:20251202T014741Z
LAST-MODIFIED:20251202T014741Z
UID:10000071-1765558800-1765575000@cincinnati.cisvusa.org
SUMMARY:Cookie-athon
DESCRIPTION:Join the JB for a Cookie-athon! Please bring store bought cookie dough and snacks to share! This event is a great way to introduce someone new to CISV\, stay involved locally and just have fun! All are welcome! \n  \nQuestions? Please contact Riley\, Jb Advisor\, cincinnati-jbadvisor@cisvusa.org
URL:https://cincinnati.cisvusa.org/event/cookie-athon/
LOCATION:Mt Auburn Presbyterian\, 103 William Howard Taft Road\, Cincinnati\, OH\, 45219\, United States
END:VEVENT
END:VCALENDAR