BEGIN:VCALENDAR
VERSION:2.0
PRODID:-//Cincinnati - ECPv6.15.20//NONSGML v1.0//EN
CALSCALE:GREGORIAN
METHOD:PUBLISH
X-WR-CALNAME:Cincinnati
X-ORIGINAL-URL:https://cincinnati.cisvusa.org
X-WR-CALDESC:Events for Cincinnati
REFRESH-INTERVAL;VALUE=DURATION:PT1H
X-Robots-Tag:noindex
X-PUBLISHED-TTL:PT1H
BEGIN:VTIMEZONE
TZID:America/New_York
BEGIN:DAYLIGHT
TZOFFSETFROM:-0500
TZOFFSETTO:-0400
TZNAME:EDT
DTSTART:20220313T070000
END:DAYLIGHT
BEGIN:STANDARD
TZOFFSETFROM:-0400
TZOFFSETTO:-0500
TZNAME:EST
DTSTART:20221106T060000
END:STANDARD
BEGIN:DAYLIGHT
TZOFFSETFROM:-0500
TZOFFSETTO:-0400
TZNAME:EDT
DTSTART:20230312T070000
END:DAYLIGHT
BEGIN:STANDARD
TZOFFSETFROM:-0400
TZOFFSETTO:-0500
TZNAME:EST
DTSTART:20231105T060000
END:STANDARD
BEGIN:DAYLIGHT
TZOFFSETFROM:-0500
TZOFFSETTO:-0400
TZNAME:EDT
DTSTART:20240310T070000
END:DAYLIGHT
BEGIN:STANDARD
TZOFFSETFROM:-0400
TZOFFSETTO:-0500
TZNAME:EST
DTSTART:20241103T060000
END:STANDARD
BEGIN:DAYLIGHT
TZOFFSETFROM:-0500
TZOFFSETTO:-0400
TZNAME:EDT
DTSTART:20250309T070000
END:DAYLIGHT
BEGIN:STANDARD
TZOFFSETFROM:-0400
TZOFFSETTO:-0500
TZNAME:EST
DTSTART:20251102T060000
END:STANDARD
BEGIN:DAYLIGHT
TZOFFSETFROM:-0500
TZOFFSETTO:-0400
TZNAME:EDT
DTSTART:20260308T070000
END:DAYLIGHT
BEGIN:STANDARD
TZOFFSETFROM:-0400
TZOFFSETTO:-0500
TZNAME:EST
DTSTART:20261101T060000
END:STANDARD
BEGIN:DAYLIGHT
TZOFFSETFROM:-0500
TZOFFSETTO:-0400
TZNAME:EDT
DTSTART:20270314T070000
END:DAYLIGHT
BEGIN:STANDARD
TZOFFSETFROM:-0400
TZOFFSETTO:-0500
TZNAME:EST
DTSTART:20271107T060000
END:STANDARD
END:VTIMEZONE
BEGIN:VEVENT
DTSTART;TZID=America/New_York:20260221T100000
DTEND;TZID=America/New_York:20260221T120000
DTSTAMP:20260420T224210
CREATED:20251203T193217Z
LAST-MODIFIED:20251203T193217Z
UID:10000075-1771668000-1771675200@cincinnati.cisvusa.org
SUMMARY:Family Orientation Day
DESCRIPTION:Family orientation day for 2026 delegates
URL:https://cincinnati.cisvusa.org/event/family-orientation-day-2/
LOCATION:Seven Hills School\, 5400 Red Bank Road\, Cincinnati\, 45227\, United States
END:VEVENT
BEGIN:VEVENT
DTSTART;TZID=America/New_York:20251201T190000
DTEND;TZID=America/New_York:20251201T200000
DTSTAMP:20260420T224210
CREATED:20251103T022432Z
LAST-MODIFIED:20251103T022432Z
UID:10000069-1764615600-1764619200@cincinnati.cisvusa.org
SUMMARY:Info Meeting
DESCRIPTION:Join us to learn more about CISV and our youth programs in 2026! \n  \nSeven Hills Schools (Lotspeich Library) \n5400 Red Bank Road\, Cincinnati\, OH 45227
URL:https://cincinnati.cisvusa.org/event/info-meeting-2/
LOCATION:Seven Hills School\, 5400 Red Bank Road\, Cincinnati\, 45227\, United States
END:VEVENT
BEGIN:VEVENT
DTSTART;TZID=America/New_York:20250222T130000
DTEND;TZID=America/New_York:20250222T143000
DTSTAMP:20260420T224210
CREATED:20241204T140754Z
LAST-MODIFIED:20241204T140754Z
UID:10000058-1740229200-1740234600@cincinnati.cisvusa.org
SUMMARY:Parent Orientation
DESCRIPTION:Orientation day for all families with children selected to travel this upcoming summer.
URL:https://cincinnati.cisvusa.org/event/parent-orientation/
LOCATION:Seven Hills School\, 5400 Red Bank Road\, Cincinnati\, 45227\, United States
END:VEVENT
BEGIN:VEVENT
DTSTART;TZID=America/New_York:20240224T130000
DTEND;TZID=America/New_York:20240224T143000
DTSTAMP:20260420T224210
CREATED:20240205T234803Z
LAST-MODIFIED:20240205T234803Z
UID:10000005-1708779600-1708785000@cincinnati.cisvusa.org
SUMMARY:Family Orientation Day
DESCRIPTION:If your child has been selected for a CISV program this day is for your family!
URL:https://cincinnati.cisvusa.org/event/family-orientation-day/
LOCATION:Seven Hills School\, 5400 Red Bank Road\, Cincinnati\, 45227\, United States
END:VEVENT
BEGIN:VEVENT
DTSTART;TZID=America/New_York:20231114T190000
DTEND;TZID=America/New_York:20231114T200000
DTSTAMP:20260420T224210
CREATED:20231003T012749Z
LAST-MODIFIED:20231003T012811Z
UID:10000026-1699988400-1699992000@cincinnati.cisvusa.org
SUMMARY:Information Night 1
DESCRIPTION:Are you interested in learning more about CISV? Please join us for the first information night for the upcoming CISV year! We will reveal the locations where we are sending delegations!
URL:https://cincinnati.cisvusa.org/event/information-night-1/
LOCATION:Seven Hills School\, 5400 Red Bank Road\, Cincinnati\, 45227\, United States
END:VEVENT
BEGIN:VEVENT
DTSTART;TZID=America/New_York:20230225T130000
DTEND;TZID=America/New_York:20230225T150000
DTSTAMP:20260420T224210
CREATED:20220925T163951Z
LAST-MODIFIED:20230107T182729Z
UID:10000009-1677330000-1677337200@cincinnati.cisvusa.org
SUMMARY:2023 Program Family Orientation
DESCRIPTION:
URL:https://cincinnati.cisvusa.org/event/2023-program-family-orientation/
LOCATION:Seven Hills School\, 5400 Red Bank Road\, Cincinnati\, 45227\, United States
END:VEVENT
END:VCALENDAR